BEGIN:VCALENDAR
VERSION:2.0
PRODID:icalendar-ruby
CALSCALE:GREGORIAN
BEGIN:VEVENT
DTSTAMP:20210120T175240Z
UID:81881c27-02f4-4386-a829-09430ca724ab
DTSTART:20210126T110000Z
DTEND:20210129T110000Z
DESCRIPTION:Full Staff Planning Days.  Offsite.
LOCATION:
SUMMARY:Hui Kaimahi
URL:
END:VEVENT
END:VCALENDAR
