BEGIN:VCALENDAR
VERSION:2.0
PRODID:icalendar-ruby
CALSCALE:GREGORIAN
BEGIN:VEVENT
DTSTAMP:20210120T175239Z
UID:de888a64-4209-4b57-8c1c-aab7c02bcf75
DTSTART:20201213T110000Z
DTEND:20210131T110000Z
DESCRIPTION:
LOCATION:
SUMMARY:School Holidays
URL:
END:VEVENT
END:VCALENDAR
